BEGIN:VCALENDAR
VERSION:2.0
PRODID:-//Squarespace Inc/Squarespace 6//v6//EN
BEGIN:VEVENT
UID:5ee772228a442e553bb1b6f1@squarespace.com
DTSTAMP:20200615T130715Z
DTSTART:20200726T200000Z
DTEND:20200726T210000Z
SUMMARY:Blount County Democrats Social Distancing Picnic
GEO:35.825996;-84.048547
LOCATION:Louisville Park\, 3298 Cox Rd.\, Louisville\, TN
END:VEVENT
END:VCALENDAR
