BEGIN:VCALENDAR
VERSION:2.0
PRODID:-//Squarespace Inc/Squarespace 6//v6//EN
BEGIN:VEVENT
UID:5eebccfbaa5b8864e6b19468@squarespace.com
DTSTAMP:20200618T202227Z
DTSTART:20200619T000000Z
DTEND:20200619T010000Z
SUMMARY:Democratic Women of Davidson County Candidate Forum
END:VEVENT
END:VCALENDAR
