BEGIN:VCALENDAR
VERSION:2.0
PRODID:-//Squarespace Inc/Squarespace 6//v6//EN
BEGIN:VEVENT
UID:5ed29e60bdbbdb299cc12ded@squarespace.com
DTSTAMP:20200530T175656Z
DTSTART:20200610T220000Z
DTEND:20200611T000000Z
SUMMARY:Emerge Training
END:VEVENT
END:VCALENDAR
