BEGIN:VCALENDAR
VERSION:2.0
PRODID:-//Squarespace Inc/Squarespace 6//v6//EN
BEGIN:VEVENT
UID:5ed29e6fe5817a02baaafce6@squarespace.com
DTSTAMP:20200530T175714Z
DTSTART:20200617T220000Z
DTEND:20200618T000000Z
SUMMARY:Emerge Training
END:VEVENT
END:VCALENDAR
