BEGIN:VCALENDAR
VERSION:2.0
PRODID:-//Squarespace Inc/Squarespace 6//v6//EN
BEGIN:VEVENT
UID:5ed29e866472ff777a8a9190@squarespace.com
DTSTAMP:20200530T175737Z
DTSTART:20200625T000000Z
DTEND:20200625T010000Z
SUMMARY:Emerge Training
END:VEVENT
END:VCALENDAR
