BEGIN:VCALENDAR
VERSION:2.0
PRODID:-//Squarespace Inc/Squarespace 6//v6//EN
BEGIN:VEVENT
UID:5ed29ea0def8546a01aaa2cd@squarespace.com
DTSTAMP:20200530T175803Z
DTSTART:20200606T140000Z
DTEND:20200606T180000Z
SUMMARY:Emerge Training
END:VEVENT
END:VCALENDAR
