BEGIN:VCALENDAR
VERSION:2.0
PRODID:-//Squarespace Inc/Squarespace 6//v6//EN
BEGIN:VEVENT
UID:5ed29e17b4a2b057f35fe914@squarespace.com
DTSTAMP:20200530T175618Z
DTSTART:20200603T220000Z
DTEND:20200604T000000Z
SUMMARY:Emerge Training
END:VEVENT
END:VCALENDAR
