BEGIN:VCALENDAR
VERSION:2.0
PRODID:-//Squarespace Inc/Squarespace 6//v6//EN
BEGIN:VEVENT
UID:5f1727917b92b41aeedd0869@squarespace.com
DTSTAMP:20200721T173647Z
DTSTART:20200726T120000Z
DTEND:20200727T000000Z
SUMMARY:FLY Robin FLY — 12-Hour Zoom-A-Thon
END:VEVENT
END:VCALENDAR
