BEGIN:VCALENDAR
VERSION:2.0
PRODID:-//Squarespace Inc/Squarespace 6//v6//EN
BEGIN:VEVENT
UID:5ed550321bd9736e7a532443@squarespace.com
DTSTAMP:20200601T190012Z
DTSTART:20200605T190000Z
DTEND:20200607T200000Z
SUMMARY:Go Orange Virtual
END:VEVENT
END:VCALENDAR
