BEGIN:VCALENDAR
VERSION:2.0
PRODID:-//Squarespace Inc/Squarespace 6//v6//EN
BEGIN:VEVENT
UID:5eebcd3db7768329c7330bb2@squarespace.com
DTSTAMP:20200618T202325Z
DTSTART:20200706T230000Z
DTEND:20200707T000000Z
SUMMARY:Marshall County Democratic Party On-Line Town Hall
END:VEVENT
END:VCALENDAR
