BEGIN:VCALENDAR
VERSION:2.0
PRODID:-//Squarespace Inc/Squarespace 6//v6//EN
BEGIN:VEVENT
UID:5ed29f1930af07074f5ae9ff@squarespace.com
DTSTAMP:20200530T180258Z
DTSTART:20200604T230000Z
DTEND:20200605T000000Z
SUMMARY:Indivisible Candidate Forum
END:VEVENT
END:VCALENDAR
