BEGIN:VCALENDAR
VERSION:2.0
PRODID:-//Squarespace Inc/Squarespace 6//v6//EN
BEGIN:VEVENT
UID:5eebcd0fc4275f35d9c7cc47@squarespace.com
DTSTAMP:20200618T202244Z
DTSTART:20200618T220000Z
DTEND:20200618T230000Z
SUMMARY:NPHC Rally at the Capitol
END:VEVENT
END:VCALENDAR
