BEGIN:VCALENDAR
VERSION:2.0
PRODID:-//Squarespace Inc/Squarespace 6//v6//EN
BEGIN:VEVENT
UID:5eebcd2fc79a4441312db2e3@squarespace.com
DTSTAMP:20200618T202311Z
DTSTART:20200625T230000Z
DTEND:20200626T000000Z
SUMMARY:Obion County Democratic Party On-Line Town Hall
END:VEVENT
END:VCALENDAR
