BEGIN:VCALENDAR
VERSION:2.0
PRODID:-//Squarespace Inc/Squarespace 6//v6//EN
BEGIN:VEVENT
UID:5ed29f0a9654580ae7d73e28@squarespace.com
DTSTAMP:20200530T175939Z
DTSTART:20200530T180000Z
DTEND:20200530T190000Z
SUMMARY:Passion for Tennessee Round Table
END:VEVENT
END:VCALENDAR
