BEGIN:VCALENDAR
VERSION:2.0
PRODID:-//Squarespace Inc/Squarespace 6//v6//EN
BEGIN:VEVENT
UID:5ed29f35ff1f544b3b2a7db1@squarespace.com
DTSTAMP:20200530T180307Z
DTSTART:20200711T230000Z
DTEND:20200712T000000Z
SUMMARY:Sevier County Candidate Forum
END:VEVENT
END:VCALENDAR
